BEGIN:VCALENDAR
VERSION:2.0
PRODID:-//Squarespace Inc/Squarespace 6//v6//EN
BEGIN:VEVENT
UID:5f9627e986c6207d287d88a1@squarespace.com
DTSTAMP:20201026T014553Z
DTSTART:20201031T103000Z
DTEND:20201031T125500Z
SUMMARY:Pirra LIVE - Halloween at Vic on the Park (FREE)
END:VEVENT
END:VCALENDAR
