BEGIN:VCALENDAR
VERSION:2.0
PRODID:-//Squarespace Inc/Squarespace 6//v6//EN
BEGIN:VEVENT
UID:5e31015892004c711df7c0b4@squarespace.com
DTSTAMP:20200129T052830Z
DTSTART:20200404T010000Z
DTEND:20200404T100000Z
SUMMARY:Pirra and BoomChild @ Torch Fest
END:VEVENT
END:VCALENDAR
