BEGIN:VCALENDAR
VERSION:2.0
PRODID:-//Squarespace Inc/Squarespace 6//v6//EN
BEGIN:VEVENT
UID:5e31015892004c711df7c0b2@squarespace.com
DTSTAMP:20200129T053852Z
DTSTART:20200202T050000Z
DTEND:20200202T110000Z
SUMMARY:Lincoln Mackinnon and The Wrecking Train @ Harbour Sundays 2020
END:VEVENT
END:VCALENDAR
