BEGIN:VCALENDAR
VERSION:2.0
PRODID:-//Squarespace Inc/Squarespace 6//v6//EN
BEGIN:VEVENT
UID:5e31015892004c711df7c0ae@squarespace.com
DTSTAMP:20200129T052657Z
DTSTART:20200201T083000Z
DTEND:20200201T120000Z
SUMMARY:BoomChild @ Junction 142
END:VEVENT
END:VCALENDAR
